BEGIN:VCALENDAR
PRODID:-//eluceo/ical//2.0/EN
VERSION:2.0
CALSCALE:GREGORIAN
BEGIN:VEVENT
UID:event-144
DTSTAMP:20260420T143533Z
SUMMARY:Bowlen met JFAS
DESCRIPTION:Met januari achter de rug\, is het tijd om jezelf uit die winte
 rdip te halen. Het is nu tijd om even te relaxen en jezelf te herpakken ti
 jdens deze perfecte sociale gelegenheid. Kom op 11 februari gezellig met o
 ns mee en laat je vrienden en medestudenten je bowlingskills zien🎳. Of 
 je nou thuis je eigen bowlingschoenen hebt liggen of er bij bent voor een 
 drankje met je vrienden🍻\, iedereen is uitgenodigd! Schrijf je snel in\
 , en wie weet mag jij jezelf bekronen tot de beste bowler van de UvA👑! 
 📍Locatie: Knijn Bowling &amp\; Restaurant (Scheldeplein 3\, 1078 GR Ams
 terdam) 🕐Tijd: 19:30-21:30
DTSTART:20250211T183000Z
DTEND:20250211T200000Z
LOCATION:Knijn Bowling
END:VEVENT
BEGIN:VTIMEZONE
TZID:UTC
BEGIN:STANDARD
DTSTART:20250211T183000
TZNAME:UTC
TZOFFSETTO:+0000
TZOFFSETFROM:+0000
END:STANDARD
END:VTIMEZONE
END:VCALENDAR
