BEGIN:VCALENDAR
PRODID:-//eluceo/ical//2.0/EN
VERSION:2.0
CALSCALE:GREGORIAN
BEGIN:VEVENT
UID:event-154
DTSTAMP:20260420T025100Z
SUMMARY:Talkshow Bar Laat 
DESCRIPTION:op 17 maart gaan we talkshow Bar Laat met Sophie Hilbrand en Je
 roen Pauw bijwonen. We krijgen eerst een kijkje achter de schermen waarna 
 we plaats nemen om de uitzending bij te wonen. Lijkt dit je leuk? Meld je 
 dan aan\, er is beperkt aantal plek! Waar: Studio 6 Hilversum  Wanneer: 1
 7 maart  Tijd: 20:45 - 23:00 uur
DTSTART:20250317T194500Z
DTEND:20250317T220000Z
END:VEVENT
BEGIN:VTIMEZONE
TZID:UTC
BEGIN:STANDARD
DTSTART:20250317T194500
TZNAME:UTC
TZOFFSETTO:+0000
TZOFFSETFROM:+0000
END:STANDARD
END:VTIMEZONE
END:VCALENDAR
