BEGIN:VCALENDAR
PRODID:-//eluceo/ical//2.0/EN
VERSION:2.0
CALSCALE:GREGORIAN
BEGIN:VEVENT
UID:event-155
DTSTAMP:20260419T130627Z
SUMMARY:Gevangenis bezoek 
DESCRIPTION:Op maandag 7 april gaan we justitieel complex Zaanstad bezoeken
 !  We worden ontvangen met een kopje koffie of thee waarna er kort iets w
 ordt verteld over justitieel complex Zaanstad.  We sluiten af met een ron
 dleiding! Meld je aan\, er is beperkt aantal plek! Waar: Justitieel comple
 x Zaanstad  Wanneer: 7 april Tijd: 11.00 - 12.45 uur 
DTSTART:20250407T090000Z
DTEND:20250407T104500Z
END:VEVENT
BEGIN:VTIMEZONE
TZID:UTC
BEGIN:STANDARD
DTSTART:20250407T090000
TZNAME:UTC
TZOFFSETTO:+0000
TZOFFSETFROM:+0000
END:STANDARD
END:VTIMEZONE
END:VCALENDAR
