BEGIN:VCALENDAR
PRODID:-//eluceo/ical//2.0/EN
VERSION:2.0
CALSCALE:GREGORIAN
BEGIN:VEVENT
UID:event-233
DTSTAMP:20260421T165126Z
SUMMARY:AMS UNLOCKED - Double Up
DESCRIPTION:Ja hoor\, het is zover! JFAS zal dit jaar in samenwerking met a
 ndere studieverenigingen wederom op 3 juni het studentenfestival Amsterdam
  Unlocked organiseren\, wederom bij het prachtige Thuishaven. Voorafgaand 
 aan dit mooie event wordt er een toffe pre-party georganiseerd. Op 13 maar
 t draaien opkomende DJ’s back-to-back (B2B) in Brokers Bar en strijden z
 ij om de kans om Amsterdam Unlocked bij Thuishaven te openen. Zie hoe zij 
 inspelen op elkaars energie en op de reactie van het publiek terwijl ze al
 les geven voor hun plek op de De Loods stage. Verwacht trance\, (speed) ga
 rage\, drum &amp\; bass en jungle\, gebracht door DJ’s die zichzelf in r
 eal time uitdagen en samen de avond vanaf het begin opbouwen. Een perfecte
  manier om alvast in de sfeer te komen voor 3 juni. 🔥 Tickets kosten ma
 ar 6\,50 en zijn te koop op de site: https://www.amsunlocked.com/events 
DTSTART:20260313T190000Z
DTEND:20260314T020000Z
END:VEVENT
BEGIN:VTIMEZONE
TZID:UTC
BEGIN:STANDARD
DTSTART:20260313T190000
TZNAME:UTC
TZOFFSETTO:+0000
TZOFFSETFROM:+0000
END:STANDARD
END:VTIMEZONE
END:VCALENDAR
