BEGIN:VCALENDAR
PRODID:-//eluceo/ical//2.0/EN
VERSION:2.0
CALSCALE:GREGORIAN
BEGIN:VEVENT
UID:event-244
DTSTAMP:20260419T142021Z
SUMMARY:AMS Unlocked
DESCRIPTION:Ja ja\, het is zover 👀 Met trots mag JFAS mededelen dat op 3
  juni het studentenfestival Unlocked zal plaatsvinden op Thuishaven🪩 Di
 t belooft een bijzonder en groots evenement te worden dat je echt niet wil
  missen. Het wordt een avond vol goede muziek\, op een prachtige locatie\,
  samen met een bijzonder grote groep studenten. De ticketverkoop gaat bijz
 onder hard\, dus wees er op tijd bij! Via de onderstaande link kun je je t
 icket via JFAS halen met korting 🎟️ Let op: deze tickets zijn beperkt
  beschikbaar. Zodra deze uitverkocht zijn\, kun je alleen nog algemene tic
 kets kopen\, die aanzienlijk duurder zijn. Kortom: wacht niet te lang en z
 org dat je erbij bent 😉 👉 https://ams-unlocked-111.bash.social/e/nq5
 YDaDFIQp5?s=KLWfBN0sq03&amp\;tc=yOhjbekYXthTSnKADvB4P4ejOMLgBTVo%2Czb17W7J
 5WOPZDFpgft8SFbfFl1GXIdxV  Dit wordt er eentje voor in de boeken.
DTSTART:20260603T150000Z
DTEND:20260604T000000Z
END:VEVENT
BEGIN:VTIMEZONE
TZID:UTC
BEGIN:STANDARD
DTSTART:20260603T150000
TZNAME:UTC
TZOFFSETTO:+0000
TZOFFSETFROM:+0000
END:STANDARD
END:VTIMEZONE
END:VCALENDAR
