BEGIN:VCALENDAR
PRODID:-//eluceo/ical//2.0/EN
VERSION:2.0
CALSCALE:GREGORIAN
BEGIN:VEVENT
UID:event-247
DTSTAMP:20260424T151905Z
SUMMARY:Recruitmentdiner
DESCRIPTION:📍The Harbour Club Amsterdam Zuid\, Apollolaan 2\, 1077 RV A
 msterdam 📆 Maandag 18 mei 2026 ⏰ 18:45 – 22:00 Ben jij benieuwd na
 ar de praktijk achter de juridische wereld? Op 18 mei organiseren we een 
 recruitmentdiner waarbij jij de kans krijgt om in een informele setting in
  gesprek te gaan met professionals uit het vakgebied.  Onder het genot va
 n een heerlijk 3-gangen diner schuiven AKD\, Dentons en Wintertaling aan 
 om al jouw vragen te beantwoorden.  Of je nu opzoek bent naar een stage\,
  een eerste baan of gewoon nieuwsgierig bent naar de mogelijkheden\, dan m
 ag je deze avond niet missen!  Ben jij een derdejaars bachelor student of
  masterstudent? Meld je dan snel aan\, want de plaatsen zijn beperkt. We z
 ien je graag daar! Voor dit evenement geldt een maximumaantal deelnemers. 
 Bij overschrijding van dit aantal wordt een reservelijst gehanteerd.
DTSTART:20260518T164500Z
DTEND:20260518T200000Z
END:VEVENT
BEGIN:VTIMEZONE
TZID:UTC
BEGIN:STANDARD
DTSTART:20260518T164500
TZNAME:UTC
TZOFFSETTO:+0000
TZOFFSETFROM:+0000
END:STANDARD
END:VTIMEZONE
END:VCALENDAR
